BEGIN:VCALENDAR
VERSION:2.0
PRODID:-//Löbliche Singergesellschaft von 1501 Pforzheim - ECPv6.15.20//NONSGML v1.0//EN
CALSCALE:GREGORIAN
METHOD:PUBLISH
X-WR-CALNAME:Löbliche Singergesellschaft von 1501 Pforzheim
X-ORIGINAL-URL:https://www.loebliche-singer-pforzheim.de
X-WR-CALDESC:Veranstaltungen für Löbliche Singergesellschaft von 1501 Pforzheim
REFRESH-INTERVAL;VALUE=DURATION:PT1H
X-Robots-Tag:noindex
X-PUBLISHED-TTL:PT1H
BEGIN:VTIMEZONE
TZID:Europe/Berlin
BEGIN:DAYLIGHT
TZOFFSETFROM:+0100
TZOFFSETTO:+0200
TZNAME:CEST
DTSTART:20220327T010000
END:DAYLIGHT
BEGIN:STANDARD
TZOFFSETFROM:+0200
TZOFFSETTO:+0100
TZNAME:CET
DTSTART:20221030T010000
END:STANDARD
BEGIN:DAYLIGHT
TZOFFSETFROM:+0100
TZOFFSETTO:+0200
TZNAME:CEST
DTSTART:20230326T010000
END:DAYLIGHT
BEGIN:STANDARD
TZOFFSETFROM:+0200
TZOFFSETTO:+0100
TZNAME:CET
DTSTART:20231029T010000
END:STANDARD
BEGIN:DAYLIGHT
TZOFFSETFROM:+0100
TZOFFSETTO:+0200
TZNAME:CEST
DTSTART:20240331T010000
END:DAYLIGHT
BEGIN:STANDARD
TZOFFSETFROM:+0200
TZOFFSETTO:+0100
TZNAME:CET
DTSTART:20241027T010000
END:STANDARD
END:VTIMEZONE
BEGIN:VEVENT
DTSTART;TZID=Europe/Berlin:20231009T190000
DTEND;TZID=Europe/Berlin:20231009T210000
DTSTAMP:20260421T011716
CREATED:20221125T123840Z
LAST-MODIFIED:20230921T093740Z
UID:48358-1696878000-1696885200@www.loebliche-singer-pforzheim.de
SUMMARY:Jüdisches Leben in Pforzheim gestern und heute (Montagabend im Archiv)
DESCRIPTION:Jüdisches Leben in Pforzheim gestern und heute\nmit Dr. Christoph Timm \nStadtgeschichte neu entdecken – und zwar aus einer Perspektive\, die den Beitrag jüdischen Lebens gestern und heute wahrnimmt und ins kollektive Gedächtnis einschreiben will: Das ist das Anliegen der Publikation „Jüdisches Leben in Pforzheim“\, die sich als lokaler Bestseller im bundesweiten Gedenkjahr „1700 Jahre Jüdisches Leben in Deutschland“ erwies. \nJüdinnen und Juden waren seit Jahrhunderten ein integraler Bestandteil der Stadt am Rande des Nordschwarzwalds und sind es heute wieder. Autor Dr. Christoph Timm plaudert über die Entstehung des Buches und lässt anhand von Bilddokumenten bekannte und vergessene Akteure Revue passieren: vom „Hofjud“ Model Löw über Henriette Bloch und Laura Perls bis zu Ignaz Bubis. \nDr. Christoph Timm ist Reuchlin-Beauftragter und pensionierter Denkmalpfleger der Stadt Pforzheim. \nDie Veranstaltung findet als Hybridveranstaltung im Stadtarchiv Pforzheim\, Veranstaltungsraum\, Kronprinzenstr. 24 a\, 75177 Pforzheim (begrenzte Teilnehmerzahl\, nicht barrierefrei)\, sowie als Zoom-Meeting statt. Anmeldung erforderlich beim Stadtarchiv Pforzheim unter archiv@pforzheim.de oder telefonisch 07231 39-2899.  \nFoto: Rödelsheimer; Sammlung O. Schulze
URL:https://www.loebliche-singer-pforzheim.de/event/juedisches-leben-in-pforzheim-gestern-und-heute-montagabend-im-archiv/
LOCATION:Hybridveranstaltung Stadtarchiv\, Kronprinzenstraße 24a\, Pforzheim\, 75177
CATEGORIES:2023,Montagabend im Archiv
ATTACH;FMTTYPE=image/jpeg:https://www.loebliche-singer-pforzheim.de/wp-content/uploads/Louis-Reutlinger-und-Familie.jpg
END:VEVENT
END:VCALENDAR